Workbook

Sheet DATA
A1: 1 | B1: 6824F1 | C1: 6824F | R1: CLASS BOAT BUILDING OR REPAIR
A2: 2 | B2: 6824F2 | C2: 6824F | E2: PAYROLL
A3: 3 | B3: 6824F3 | C3: 6824F | E3: IN THOUS
A4: 4 | B4: 6824F4 | C4: 6824F | D4: 13
A5: 5 | B5: 6824F5 | C5: 6824F | D5: 14
A6: 6 | B6: 6824F6 | C6: 6824F | D6: 15
A7: 7 | B7: 6824F7 | C7: 6824F | D7: 16 | E7: 49 | F7: 1214 | G7: 2.477 | P7: 1 | Q7: 1
A8: 8 | B8: 6824F8 | C8: 6824F | D8: 17
A9: 9 | B9: 6824F9 | C9: 6824F | D9: TOTAL | E9: 49 | F9: 1214 | G9: 2.478 | P9: 1 | Q9: 1
A10: 10 | B10: 6824F10 | C10: 6824F | D10: O.D.
A11: 11 | B11: 6824F11 | C11: 6824F
A12: 12 | B12: 6824F12 | C12: 6824F
A13: 13 | B13: 6824F13 | C13: 6824F
A14: 14 | B14: 6824F14 | C14: 6824F | D14: 16 | I14: 453 | N14: 761
A15: 15 | B15: 6824F15 | C15: 6824F
A16: 16 | B16: 6824F16 | C16: 6824F | D16: TOTAL | I16: 453 | N16: 761
A17: 17 | B17: 6824F17 | C17: 6824F | D17: O.D.
A18: 18 | B18: 6824F18 | C18: 6824F
A19: 19 | B19: 6824F19 | C19: 6824F
A20: 20 | B20: 6824F20 | C20: 6824F
A21: 21 | B21: 6824F21 | C21: 6824F | D21: 16 | I21: 863 | N21: 3079
A22: 22 | B22: 6824F22 | C22: 6824F
A23: 23 | B23: 6824F23 | C23: 6824F | D23: TOTAL | I23: 863 | N23: 3079
A24: 24 | B24: 6824F24 | C24: 6824F | D24: O.D.
A25: 25 | B25: 6824F25 | C25: 6824F | I25: 3942
A26: 26 | B26: 6824F26 | C26: 6824F
A27: 27 | B27: 6824F27 | C27: 6824F | I27: -870
A28: 28 | B28: 6824F28 | C28: 6824F | I28: 3072
A29: 29 | B29: 6824F29 | C29: 6824F | H29: 1575 | I29: 932 | J29: 41
A30: 30 | B30: 6824F30 | C30: 6824F | H30: 0 | I30: 0 | J30: 0
A31: 31 | B31: 6824F31 | C31: 6824F | H31: 0 | I31: 6.269 | J31: 0 | K31: 6.269
A32: 32 | B32: 6824F32 | C32: 6824F | H32: 0 | I32: 7.548 | J32: 0 | K32: 7.548
A33: 33 | B33: 6824F33 | C33: 6824F | H33: 3.274 | I33: 1.938 | J33: 0.085 | K33: 5.297
A34: 34 | B34: 6824F34 | C34: 6824F | H34: 3.274 | I34: 1.938 | J34: 0.085 | K34: 5.297
A35: 35 | B35: 6824F35 | C35: 6824F | H35: 3.214 | I35: 1.903 | J35: 0.083 | K35: 5.2
A36: 36 | B36: 6824F36 | C36: 6824F | H36: 3.274 | I36: 1.938 | J36: 0.085 | K36: 5.297
A37: 37 | B37: 6824F37 | C37: 6824F | F37: 12-1-10 | G37: 12-1-17 | H37: 6-1-18 | I37: 12-1-20 | K37: 7.381
A38: 38 | B38: 6824F38 | C38: 6824F | F38: 7.16 | G38: 7.17 | H38: 6.93 | I38: 7.38
A39: 1 | B39: 6843F1 | C39: 6843F | R39: CLASS SHIP BUILDING IRON OR STEEL
A40: 2 | B40: 6843F2 | C40: 6843F | E40: PAYROLL
A41: 3 | B41: 6843F3 | C41: 6843F | E41: IN THOUS
A42: 4 | B42: 6843F4 | C42: 6843F | D42: 13
A43: 5 | B43: 6843F5 | C43: 6843F | D43: 14
A44: 6 | B44: 6843F6 | C44: 6843F | D44: 15
A45: 7 | B45: 6843F7 | C45: 6843F | D45: 16
A46: 8 | B46: 6843F8 | C46: 6843F | D46: 17 | E46: 10
A47: 9 | B47: 6843F9 | C47: 6843F | D47: TOTAL | E47: 10
A48: 10 | B48: 6843F10 | C48: 6843F | D48: O.D.
A49: 11 | B49: 6843F11 | C49: 6843F
A50: 12 | B50: 6843F12 | C50: 6843F
A51: 13 | B51: 6843F13 | C51: 6843F
A52: 14 | B52: 6843F14 | C52: 6843F
A53: 15 | B53: 6843F15 | C53: 6843F
A54: 16 | B54: 6843F16 | C54: 6843F | D54: TOTAL
A55: 17 | B55: 6843F17 | C55: 6843F | D55: O.D.
A56: 18 | B56: 6843F18 | C56: 6843F
A57: 19 | B57: 6843F19 | C57: 6843F
A58: 20 | B58: 6843F20 | C58: 6843F
A59: 21 | B59: 6843F21 | C59: 6843F
A60: 22 | B60: 6843F22 | C60: 6843F
A61: 23 | B61: 6843F23 | C61: 6843F | D61: TOTAL
A62: 24 | B62: 6843F24 | C62: 6843F | D62: O.D.
A63: 25 | B63: 6843F25 | C63: 6843F
A64: 26 | B64: 6843F26 | C64: 6843F
A65: 27 | B65: 6843F27 | C65: 6843F | I65: 106
A66: 28 | B66: 6843F28 | C66: 6843F | I66: 106
A67: 29 | B67: 6843F29 | C67: 6843F | H67: 357 | I67: 223 | J67: 11
A68: 30 | B68: 6843F30 | C68: 6843F | H68: 0 | I68: 0 | J68: 0
A69: 31 | B69: 6843F31 | C69: 6843F | H69: 0 | I69: 1.06 | J69: 0 | K69: 1.06
A70: 32 | B70: 6843F32 | C70: 6843F | H70: 0 | I70: 1.276 | J70: 0 | K70: 1.276
A71: 33 | B71: 6843F33 | C71: 6843F | H71: 3.637 | I71: 2.271 | J71: 0.114 | K71: 6.022
A72: 34 | B72: 6843F34 | C72: 6843F | H72: 3.637 | I72: 2.271 | J72: 0.114 | K72: 6.022
A73: 35 | B73: 6843F35 | C73: 6843F | H73: 3.571 | I73: 2.229 | J73: 0.112 | K73: 5.912
A74: 36 | B74: 6843F36 | C74: 6843F | H74: 3.637 | I74: 2.271 | J74: 0.114 | K74: 6.022
A75: 37 | B75: 6843F37 | C75: 6843F | F75: 12-1-10 | G75: 12-1-17 | H75: 6-1-18 | I75: 12-1-20 | K75: 8.392
A76: 38 | B76: 6843F38 | C76: 6843F | F76: 8.15 | G76: 8.16 | H76: 7.88 | I76: 8.39
A77: 1 | B77: 6872F1 | C77: 6872F | R77: CLASS SHIP REPAIR OR CONVRSN-ALL OPER.
A78: 2 | B78: 6872F2 | C78: 6872F | E78: PAYROLL
A79: 3 | B79: 6872F3 | C79: 6872F | E79: IN THOUS
A80: 4 | B80: 6872F4 | C80: 6872F | D80: 13
A81: 5 | B81: 6872F5 | C81: 6872F | D81: 14
A82: 6 | B82: 6872F6 | C82: 6872F | D82: 15
A83: 7 | B83: 6872F7 | C83: 6872F | D83: 16
A84: 8 | B84: 6872F8 | C84: 6872F | D84: 17 | E84: 13
A85: 9 | B85: 6872F9 | C85: 6872F | D85: TOTAL | E85: 13
A86: 10 | B86: 6872F10 | C86: 6872F | D86: O.D.
A87: 11 | B87: 6872F11 | C87: 6872F
A88: 12 | B88: 6872F12 | C88: 6872F
A89: 13 | B89: 6872F13 | C89: 6872F
A90: 14 | B90: 6872F14 | C90: 6872F
A91: 15 | B91: 6872F15 | C91: 6872F
A92: 16 | B92: 6872F16 | C92: 6872F | D92: TOTAL
A93: 17 | B93: 6872F17 | C93: 6872F | D93: O.D.
A94: 18 | B94: 6872F18 | C94: 6872F
A95: 19 | B95: 6872F19 | C95: 6872F
A96: 20 | B96: 6872F20 | C96: 6872F
A97: 21 | B97: 6872F21 | C97: 6872F
A98: 22 | B98: 6872F22 | C98: 6872F
A99: 23 | B99: 6872F23 | C99: 6872F | D99: TOTAL
A100: 24 | B100: 6872F24 | C100: 6872F | D100: O.D.
...

Sheet PRINT
C1: Select a Classification from the "Drop-down List Box" at right and allow a moment for the data to load. | O1: 1 | Q1: 6824F
C2: The page can printed in the normal manner. The print range has been pre-set. | Q2: 6843F
Q3: 6872F
L4: CODE: | Q4: 7309F
A5: =+VLOOKUP($P5,DATA!$B$1:$R$380,17,FALSE) -> CLASS BOAT BUILDING OR REPAIR | L5: =+INDEX(Q1:Q330,O1) -> 6824F | O5: 1 | P5: =+($L$5)&O5 -> 6824F1 | Q5: 7313F
Q6: 7317F
A7: Manual | B7: =+IF(VLOOKUP($P7,DATA!$B$1:$Q$380,4,FALSE)=" ","",IF(VLOOKUP($P7,DATA!$B$1:$Q$380,4,FALSE)="","",VLOOKUP($P7,DATA!$B$1:$Q$380,4,FALSE))) -> PAYROLL | C7: Total Rept | D7: Pure Prem | G7: Total Payroll | J7: Number of Cases | O7: 2 | P7: =+($L$5)&O7 -> 6824F2 | Q7: 7327F
A8: Year | B8: =+IF(VLOOKUP($P8,DATA!$B$1:$Q$380,4,FALSE)=" ","",IF(VLOOKUP($P8,DATA!$B$1:$Q$380,4,FALSE)="","",VLOOKUP($P8,DATA!$B$1:$Q$380,4,FALSE))) -> IN THOUS | C8: Losses | D8: Reported | G8: Excl S/C PG A+B | H8: Death | I8: P.T. | J8: Major | K8: Minor | L8: Temp | M8: All | O8: 3 | P8: =+($L$5)&O8 -> 6824F3 | Q8: 7366F
A9: 2013 | B9: =+IF(VLOOKUP($P9,DATA!$B$1:$Q$380,4,FALSE)=" ","",IF(VLOOKUP($P9,DATA!$B$1:$Q$380,4,FALSE)="","",VLOOKUP($P9,DATA!$B$1:$Q$380,4,FALSE))) | C9: =+IF(VLOOKUP($P9,DATA!$B$1:$Q$380,5,FALSE)=" ","",IF(VLOOKUP($P9,DATA!$B$1:$Q$380,5,FALSE)="","",VLOOKUP($P9,DATA!$B$1:$Q$380,5,FALSE))) | D9: =+IF(VLOOKUP($P9,DATA!$B$1:$Q$380,6,FALSE)=" ","",IF(VLOOKUP($P9,DATA!$B$1:$Q$380,6,FALSE)="","",VLOOKUP($P9,DATA!$B$1:$Q$380,6,FALSE))) | G9: =+IF(VLOOKUP($P9,DATA!$B$1:$Q$380,10,FALSE)=" ","",IF(VLOOKUP($P9,DATA!$B$1:$Q$380,10,FALSE)="","",VLOOKUP($P9,DATA!$B$1:$Q$380,10,FALSE))) | H9: =+IF(VLOOKUP($P9,DATA!$B$1:$Q$380,11,FALSE)=" ","",IF(VLOOKUP($P9,DATA!$B$1:$Q$380,11,FALSE)="","",VLOOKUP($P9,DATA!$B$1:$Q$380,11,FALSE))) | I9: =+IF(VLOOKUP($P9,DATA!$B$1:$Q$380,12,FALSE)=" ","",IF(VLOOKUP($P9,DATA!$B$1:$Q$380,12,FALSE)="","",VLOOKUP($P9,DATA!$B$1:$Q$380,12,FALSE))) | J9: =+IF(VLOOKUP($P9,DATA!$B$1:$Q$380,13,FALSE)=" ","",IF(VLOOKUP($P9,DATA!$B$1:$Q$380,13,FALSE)="","",VLOOKUP($P9,DATA!$B$1:$Q$380,13,FALSE))) | K9: =+IF(VLOOKUP($P9,DATA!$B$1:$Q$380,14,FALSE)=" ","",IF(VLOOKUP($P9,DATA!$B$1:$Q$380,14,FALSE)="","",VLOOKUP($P9,DATA!$B$1:$Q$380,14,FALSE))) | L9: =+IF(VLOOKUP($P9,DATA!$B$1:$Q$380,15,FALSE)=" ","",IF(VLOOKUP($P9,DATA!$B$1:$Q$380,15,FALSE)="","",VLOOKUP($P9,DATA!$B$1:$Q$380,15,FALSE))) | M9: =+IF(VLOOKUP($P9,DATA!$B$1:$Q$380,16,FALSE)=" ","",IF(VLOOKUP($P9,DATA!$B$1:$Q$380,16,FALSE)="","",VLOOKUP($P9,DATA!$B$1:$Q$380,16,FALSE))) | O9: 4 | P9: =+($L$5)&O9 -> 6824F4 | Q9: 8709F
A10: 2014 | B10: =+IF(VLOOKUP($P10,DATA!$B$1:$Q$380,4,FALSE)=" ","",IF(VLOOKUP($P10,DATA!$B$1:$Q$380,4,FALSE)="","",VLOOKUP($P10,DATA!$B$1:$Q$380,4,FALSE))) | C10: =+IF(VLOOKUP($P10,DATA!$B$1:$Q$380,5,FALSE)=" ","",IF(VLOOKUP($P10,DATA!$B$1:$Q$380,5,FALSE)="","",VLOOKUP($P10,DATA!$B$1:$Q$380,5,FALSE))) | D10: =+IF(VLOOKUP($P10,DATA!$B$1:$Q$380,6,FALSE)=" ","",IF(VLOOKUP($P10,DATA!$B$1:$Q$380,6,FALSE)="","",VLOOKUP($P10,DATA!$B$1:$Q$380,6,FALSE))) | G10: =+IF(VLOOKUP($P10,DATA!$B$1:$Q$380,10,FALSE)=" ","",IF(VLOOKUP($P10,DATA!$B$1:$Q$380,10,FALSE)="","",VLOOKUP($P10,DATA!$B$1:$Q$380,10,FALSE))) | H10: =+IF(VLOOKUP($P10,DATA!$B$1:$Q$380,11,FALSE)=" ","",IF(VLOOKUP($P10,DATA!$B$1:$Q$380,11,FALSE)="","",VLOOKUP($P10,DATA!$B$1:$Q$380,11,FALSE))) | I10: =+IF(VLOOKUP($P10,DATA!$B$1:$Q$380,12,FALSE)=" ","",IF(VLOOKUP($P10,DATA!$B$1:$Q$380,12,FALSE)="","",VLOOKUP($P10,DATA!$B$1:$Q$380,12,FALSE))) | J10: =+IF(VLOOKUP($P10,DATA!$B$1:$Q$380,13,FALSE)=" ","",IF(VLOOKUP($P10,DATA!$B$1:$Q$380,13,FALSE)="","",VLOOKUP($P10,DATA!$B$1:$Q$380,13,FALSE))) | K10: =+IF(VLOOKUP($P10,DATA!$B$1:$Q$380,14,FALSE)=" ","",IF(VLOOKUP($P10,DATA!$B$1:$Q$380,14,FALSE)="","",VLOOKUP($P10,DATA!$B$1:$Q$380,14,FALSE))) | L10: =+IF(VLOOKUP($P10,DATA!$B$1:$Q$380,15,FALSE)=" ","",IF(VLOOKUP($P10,DATA!$B$1:$Q$380,15,FALSE)="","",VLOOKUP($P10,DATA!$B$1:$Q$380,15,FALSE))) | M10: =+IF(VLOOKUP($P10,DATA!$B$1:$Q$380,16,FALSE)=" ","",IF(VLOOKUP($P10,DATA!$B$1:$Q$380,16,FALSE)="","",VLOOKUP($P10,DATA!$B$1:$Q$380,16,FALSE))) | O10: 5 | P10: =+($L$5)&O10 -> 6824F5 | Q10: 8726F
A11: 2015 | B11: =+IF(VLOOKUP($P11,DATA!$B$1:$Q$380,4,FALSE)=" ","",IF(VLOOKUP($P11,DATA!$B$1:$Q$380,4,FALSE)="","",VLOOKUP($P11,DATA!$B$1:$Q$380,4,FALSE))) | C11: =+IF(VLOOKUP($P11,DATA!$B$1:$Q$380,5,FALSE)=" ","",IF(VLOOKUP($P11,DATA!$B$1:$Q$380,5,FALSE)="","",VLOOKUP($P11,DATA!$B$1:$Q$380,5,FALSE))) | D11: =+IF(VLOOKUP($P11,DATA!$B$1:$Q$380,6,FALSE)=" ","",IF(VLOOKUP($P11,DATA!$B$1:$Q$380,6,FALSE)="","",VLOOKUP($P11,DATA!$B$1:$Q$380,6,FALSE))) | G11: =+IF(VLOOKUP($P11,DATA!$B$1:$Q$380,10,FALSE)=" ","",IF(VLOOKUP($P11,DATA!$B$1:$Q$380,10,FALSE)="","",VLOOKUP($P11,DATA!$B$1:$Q$380,10,FALSE))) | H11: =+IF(VLOOKUP($P11,DATA!$B$1:$Q$380,11,FALSE)=" ","",IF(VLOOKUP($P11,DATA!$B$1:$Q$380,11,FALSE)="","",VLOOKUP($P11,DATA!$B$1:$Q$380,11,FALSE))) | I11: =+IF(VLOOKUP($P11,DATA!$B$1:$Q$380,12,FALSE)=" ","",IF(VLOOKUP($P11,DATA!$B$1:$Q$380,12,FALSE)="","",VLOOKUP($P11,DATA!$B$1:$Q$380,12,FALSE))) | J11: =+IF(VLOOKUP($P11,DATA!$B$1:$Q$380,13,FALSE)=" ","",IF(VLOOKUP($P11,DATA!$B$1:$Q$380,13,FALSE)="","",VLOOKUP($P11,DATA!$B$1:$Q$380,13,FALSE))) | K11: =+IF(VLOOKUP($P11,DATA!$B$1:$Q$380,14,FALSE)=" ","",IF(VLOOKUP($P11,DATA!$B$1:$Q$380,14,FALSE)="","",VLOOKUP($P11,DATA!$B$1:$Q$380,14,FALSE))) | L11: =+IF(VLOOKUP($P11,DATA!$B$1:$Q$380,15,FALSE)=" ","",IF(VLOOKUP($P11,DATA!$B$1:$Q$380,15,FALSE)="","",VLOOKUP($P11,DATA!$B$1:$Q$380,15,FALSE))) | M11: =+IF(VLOOKUP($P11,DATA!$B$1:$Q$380,16,FALSE)=" ","",IF(VLOOKUP($P11,DATA!$B$1:$Q$380,16,FALSE)="","",VLOOKUP($P11,DATA!$B$1:$Q$380,16,FALSE))) | O11: 6 | P11: =+($L$5)&O11 -> 6824F6
A12: 2016 | B12: =+IF(VLOOKUP($P12,DATA!$B$1:$Q$380,4,FALSE)=" ","",IF(VLOOKUP($P12,DATA!$B$1:$Q$380,4,FALSE)="","",VLOOKUP($P12,DATA!$B$1:$Q$380,4,FALSE))) -> 49 | C12: =+IF(VLOOKUP($P12,DATA!$B$1:$Q$380,5,FALSE)=" ","",IF(VLOOKUP($P12,DATA!$B$1:$Q$380,5,FALSE)="","",VLOOKUP($P12,DATA!$B$1:$Q$380,5,FALSE))) -> 1214 | D12: =+IF(VLOOKUP($P12,DATA!$B$1:$Q$380,6,FALSE)=" ","",IF(VLOOKUP($P12,DATA!$B$1:$Q$380,6,FALSE)="","",VLOOKUP($P12,DATA!$B$1:$Q$380,6,FALSE))) -> 2.477 | G12: =+IF(VLOOKUP($P12,DATA!$B$1:$Q$380,10,FALSE)=" ","",IF(VLOOKUP($P12,DATA!$B$1:$Q$380,10,FALSE)="","",VLOOKUP($P12,DATA!$B$1:$Q$380,10,FALSE))) | H12: =+IF(VLOOKUP($P12,DATA!$B$1:$Q$380,11,FALSE)=" ","",IF(VLOOKUP($P12,DATA!$B$1:$Q$380,11,FALSE)="","",VLOOKUP($P12,DATA!$B$1:$Q$380,11,FALSE))) | I12: =+IF(VLOOKUP($P12,DATA!$B$1:$Q$380,12,FALSE)=" ","",IF(VLOOKUP($P12,DATA!$B$1:$Q$380,12,FALSE)="","",VLOOKUP($P12,DATA!$B$1:$Q$380,12,FALSE))) | J12: =+IF(VLOOKUP($P12,DATA!$B$1:$Q$380,13,FALSE)=" ","",IF(VLOOKUP($P12,DATA!$B$1:$Q$380,13,FALSE)="","",VLOOKUP($P12,DATA!$B$1:$Q$380,13,FALSE))) | K12: =+IF(VLOOKUP($P12,DATA!$B$1:$Q$380,14,FALSE)=" ","",IF(VLOOKUP($P12,DATA!$B$1:$Q$380,14,FALSE)="","",VLOOKUP($P12,DATA!$B$1:$Q$380,14,FALSE))) | L12: =+IF(VLOOKUP($P12,DATA!$B$1:$Q$380,15,FALSE)=" ","",IF(VLOOKUP($P12,DATA!$B$1:$Q$380,15,FALSE)="","",VLOOKUP($P12,DATA!$B$1:$Q$380,15,FALSE))) -> 1 | M12: =+IF(VLOOKUP($P12,DATA!$B$1:$Q$380,16,FALSE)=" ","",IF(VLOOKUP($P12,DATA!$B$1:$Q$380,16,FALSE)="","",VLOOKUP($P12,DATA!$B$1:$Q$380,16,FALSE))) -> 1 | O12: 7 | P12: =+($L$5)&O12 -> 6824F7
A13: 2017 | B13: =+IF(VLOOKUP($P13,DATA!$B$1:$Q$380,4,FALSE)=" ","",IF(VLOOKUP($P13,DATA!$B$1:$Q$380,4,FALSE)="","",VLOOKUP($P13,DATA!$B$1:$Q$380,4,FALSE))) | C13: =+IF(VLOOKUP($P13,DATA!$B$1:$Q$380,5,FALSE)=" ","",IF(VLOOKUP($P13,DATA!$B$1:$Q$380,5,FALSE)="","",VLOOKUP($P13,DATA!$B$1:$Q$380,5,FALSE))) | D13: =+IF(VLOOKUP($P13,DATA!$B$1:$Q$380,6,FALSE)=" ","",IF(VLOOKUP($P13,DATA!$B$1:$Q$380,6,FALSE)="","",VLOOKUP($P13,DATA!$B$1:$Q$380,6,FALSE))) | G13: =+IF(VLOOKUP($P13,DATA!$B$1:$Q$380,10,FALSE)=" ","",IF(VLOOKUP($P13,DATA!$B$1:$Q$380,10,FALSE)="","",VLOOKUP($P13,DATA!$B$1:$Q$380,10,FALSE))) | H13: =+IF(VLOOKUP($P13,DATA!$B$1:$Q$380,11,FALSE)=" ","",IF(VLOOKUP($P13,DATA!$B$1:$Q$380,11,FALSE)="","",VLOOKUP($P13,DATA!$B$1:$Q$380,11,FALSE))) | I13: =+IF(VLOOKUP($P13,DATA!$B$1:$Q$380,12,FALSE)=" ","",IF(VLOOKUP($P13,DATA!$B$1:$Q$380,12,FALSE)="","",VLOOKUP($P13,DATA!$B$1:$Q$380,12,FALSE))) | J13: =+IF(VLOOKUP($P13,DATA!$B$1:$Q$380,13,FALSE)=" ","",IF(VLOOKUP($P13,DATA!$B$1:$Q$380,13,FALSE)="","",VLOOKUP($P13,DATA!$B$1:$Q$380,13,FALSE))) | K13: =+IF(VLOOKUP($P13,DATA!$B$1:$Q$380,14,FALSE)=" ","",IF(VLOOKUP($P13,DATA!$B$1:$Q$380,14,FALSE)="","",VLOOKUP($P13,DATA!$B$1:$Q$380,14,FALSE))) | L13: =+IF(VLOOKUP($P13,DATA!$B$1:$Q$380,15,FALSE)=" ","",IF(VLOOKUP($P13,DATA!$B$1:$Q$380,15,FALSE)="","",VLOOKUP($P13,DATA!$B$1:$Q$380,15,FALSE))) | M13: =+IF(VLOOKUP($P13,DATA!$B$1:$Q$380,16,FALSE)=" ","",IF(VLOOKUP($P13,DATA!$B$1:$Q$380,16,FALSE)="","",VLOOKUP($P13,DATA!$B$1:$Q$380,16,FALSE))) | O13: 8 | P13: =+($L$5)&O13 -> 6824F8
A14: TOTAL | B14: =+IF(VLOOKUP($P14,DATA!$B$1:$Q$380,4,FALSE)=" ","",IF(VLOOKUP($P14,DATA!$B$1:$Q$380,4,FALSE)="","",VLOOKUP($P14,DATA!$B$1:$Q$380,4,FALSE))) -> 49 | C14: =+IF(VLOOKUP($P14,DATA!$B$1:$Q$380,5,FALSE)=" ","",IF(VLOOKUP($P14,DATA!$B$1:$Q$380,5,FALSE)="","",VLOOKUP($P14,DATA!$B$1:$Q$380,5,FALSE))) -> 1214 | D14: =+IF(VLOOKUP($P14,DATA!$B$1:$Q$380,6,FALSE)=" ","",IF(VLOOKUP($P14,DATA!$B$1:$Q$380,6,FALSE)="","",VLOOKUP($P14,DATA!$B$1:$Q$380,6,FALSE))) -> 2.478 | G14: =+IF(VLOOKUP($P14,DATA!$B$1:$Q$380,10,FALSE)=" ","",IF(VLOOKUP($P14,DATA!$B$1:$Q$380,10,FALSE)="","",VLOOKUP($P14,DATA!$B$1:$Q$380,10,FALSE))) | H14: =+IF(VLOOKUP($P14,DATA!$B$1:$Q$380,11,FALSE)=" ","",IF(VLOOKUP($P14,DATA!$B$1:$Q$380,11,FALSE)="","",VLOOKUP($P14,DATA!$B$1:$Q$380,11,FALSE))) | I14: =+IF(VLOOKUP($P14,DATA!$B$1:$Q$380,12,FALSE)=" ","",IF(VLOOKUP($P14,DATA!$B$1:$Q$380,12,FALSE)="","",VLOOKUP($P14,DATA!$B$1:$Q$380,12,FALSE))) | J14: =+IF(VLOOKUP($P14,DATA!$B$1:$Q$380,13,FALSE)=" ","",IF(VLOOKUP($P14,DATA!$B$1:$Q$380,13,FALSE)="","",VLOOKUP($P14,DATA!$B$1:$Q$380,13,FALSE))) | K14: =+IF(VLOOKUP($P14,DATA!$B$1:$Q$380,14,FALSE)=" ","",IF(VLOOKUP($P14,DATA!$B$1:$Q$380,14,FALSE)="","",VLOOKUP($P14,DATA!$B$1:$Q$380,14,FALSE))) | L14: =+IF(VLOOKUP($P14,DATA!$B$1:$Q$380,15,FALSE)=" ","",IF(VLOOKUP($P14,DATA!$B$1:$Q$380,15,FALSE)="","",VLOOKUP($P14,DATA!$B$1:$Q$380,15,FALSE))) -> 1 | M14: =+IF(VLOOKUP($P14,DATA!$B$1:$Q$380,16,FALSE)=" ","",IF(VLOOKUP($P14,DATA!$B$1:$Q$380,16,FALSE)="","",VLOOKUP($P14,DATA!$B$1:$Q$380,16,FALSE))) -> 1 | O14: 9 | P14: =+($L$5)&O14 -> 6824F9
A15: O.D. | B15: =+IF(VLOOKUP($P15,DATA!$B$1:$Q$380,4,FALSE)=" ","",IF(VLOOKUP($P15,DATA!$B$1:$Q$380,4,FALSE)="","",VLOOKUP($P15,DATA!$B$1:$Q$380,4,FALSE))) | C15: =+IF(VLOOKUP($P15,DATA!$B$1:$Q$380,5,FALSE)=" ","",IF(VLOOKUP($P15,DATA!$B$1:$Q$380,5,FALSE)="","",VLOOKUP($P15,DATA!$B$1:$Q$380,5,FALSE))) | D15: =+IF(VLOOKUP($P15,DATA!$B$1:$Q$380,6,FALSE)=" ","",IF(VLOOKUP($P15,DATA!$B$1:$Q$380,6,FALSE)="","",VLOOKUP($P15,DATA!$B$1:$Q$380,6,FALSE))) | G15: =+IF(VLOOKUP($P15,DATA!$B$1:$Q$380,10,FALSE)=" ","",IF(VLOOKUP($P15,DATA!$B$1:$Q$380,10,FALSE)="","",VLOOKUP($P15,DATA!$B$1:$Q$380,10,FALSE))) | H15: =+IF(VLOOKUP($P15,DATA!$B$1:$Q$380,11,FALSE)=" ","",IF(VLOOKUP($P15,DATA!$B$1:$Q$380,11,FALSE)="","",VLOOKUP($P15,DATA!$B$1:$Q$380,11,FALSE))) | I15: =+IF(VLOOKUP($P15,DATA!$B$1:$Q$380,12,FALSE)=" ","",IF(VLOOKUP($P15,DATA!$B$1:$Q$380,12,FALSE)="","",VLOOKUP($P15,DATA!$B$1:$Q$380,12,FALSE))) | J15: =+IF(VLOOKUP($P15,DATA!$B$1:$Q$380,13,FALSE)=" ","",IF(VLOOKUP($P15,DATA!$B$1:$Q$380,13,FALSE)="","",VLOOKUP($P15,DATA!$B$1:$Q$380,13,FALSE))) | K15: =+IF(VLOOKUP($P15,DATA!$B$1:$Q$380,14,FALSE)=" ","",IF(VLOOKUP($P15,DATA!$B$1:$Q$380,14,FALSE)="","",VLOOKUP($P15,DATA!$B$1:$Q$380,14,FALSE))) | L15: =+IF(VLOOKUP($P15,DATA!$B$1:$Q$380,15,FALSE)=" ","",IF(VLOOKUP($P15,DATA!$B$1:$Q$380,15,FALSE)="","",VLOOKUP($P15,DATA!$B$1:$Q$380,15,FALSE))) | M15: =+IF(VLOOKUP($P15,DATA!$B$1:$Q$380,16,FALSE)=" ","",IF(VLOOKUP($P15,DATA!$B$1:$Q$380,16,FALSE)="","",VLOOKUP($P15,DATA!$B$1:$Q$380,16,FALSE))) | O15: 10 | P15: =+($L$5)&O15 -> 6824F10
F17: REPORTED LOSSES
A18: Manual | D18: Indemnity | I18: Medical
A19: Year | B19: Death | C19: P.T. | D19: Major | E19: Minor | F19: Temp | G19: Death | H19: P.T. | I19: Major | J19: Minor | K19: Temp | L19: Med. Only
A20: =+A9 -> 2013 | B20: =+IF(VLOOKUP($P20,DATA!$B$1:$Q$380,4,FALSE)=" ","",IF(VLOOKUP($P20,DATA!$B$1:$Q$380,4,FALSE)="","",VLOOKUP($P20,DATA!$B$1:$Q$380,4,FALSE))) | C20: =+IF(VLOOKUP($P20,DATA!$B$1:$Q$380,5,FALSE)=" ","",IF(VLOOKUP($P20,DATA!$B$1:$Q$380,5,FALSE)="","",VLOOKUP($P20,DATA!$B$1:$Q$380,5,FALSE))) | D20: =+IF(VLOOKUP($P20,DATA!$B$1:$Q$380,6,FALSE)=" ","",IF(VLOOKUP($P20,DATA!$B$1:$Q$380,6,FALSE)="","",VLOOKUP($P20,DATA!$B$1:$Q$380,6,FALSE))) | E20: =+IF(VLOOKUP($P20,DATA!$B$1:$Q$380,7,FALSE)=" ","",IF(VLOOKUP($P20,DATA!$B$1:$Q$380,7,FALSE)="","",VLOOKUP($P20,DATA!$B$1:$Q$380,7,FALSE))) | F20: =+IF(VLOOKUP($P20,DATA!$B$1:$Q$380,8,FALSE)=" ","",IF(VLOOKUP($P20,DATA!$B$1:$Q$380,8,FALSE)="","",VLOOKUP($P20,DATA!$B$1:$Q$380,8,FALSE))) | G20: =+IF(VLOOKUP($P20,DATA!$B$1:$Q$380,9,FALSE)=" ","",IF(VLOOKUP($P20,DATA!$B$1:$Q$380,9,FALSE)="","",VLOOKUP($P20,DATA!$B$1:$Q$380,9,FALSE))) | H20: =+IF(VLOOKUP($P20,DATA!$B$1:$Q$380,10,FALSE)=" ","",IF(VLOOKUP($P20,DATA!$B$1:$Q$380,10,FALSE)="","",VLOOKUP($P20,DATA!$B$1:$Q$380,10,FALSE))) | I20: =+IF(VLOOKUP($P20,DATA!$B$1:$Q$380,11,FALSE)=" ","",IF(VLOOKUP($P20,DATA!$B$1:$Q$380,11,FALSE)="","",VLOOKUP($P20,DATA!$B$1:$Q$380,11,FALSE))) | J20: =+IF(VLOOKUP($P20,DATA!$B$1:$Q$380,12,FALSE)=" ","",IF(VLOOKUP($P20,DATA!$B$1:$Q$380,12,FALSE)="","",VLOOKUP($P20,DATA!$B$1:$Q$380,12,FALSE))) | K20: =+IF(VLOOKUP($P20,DATA!$B$1:$Q$380,13,FALSE)=" ","",IF(VLOOKUP($P20,DATA!$B$1:$Q$380,13,FALSE)="","",VLOOKUP($P20,DATA!$B$1:$Q$380,13,FALSE))) | L20: =+IF(VLOOKUP($P20,DATA!$B$1:$Q$380,14,FALSE)=" ","",IF(VLOOKUP($P20,DATA!$B$1:$Q$380,14,FALSE)="","",VLOOKUP($P20,DATA!$B$1:$Q$380,14,FALSE))) | O20: 11 | P20: =+($L$5)&O20 -> 6824F11
A21: =+A10 -> 2014 | B21: =+IF(VLOOKUP($P21,DATA!$B$1:$Q$380,4,FALSE)=" ","",IF(VLOOKUP($P21,DATA!$B$1:$Q$380,4,FALSE)="","",VLOOKUP($P21,DATA!$B$1:$Q$380,4,FALSE))) | C21: =+IF(VLOOKUP($P21,DATA!$B$1:$Q$380,5,FALSE)=" ","",IF(VLOOKUP($P21,DATA!$B$1:$Q$380,5,FALSE)="","",VLOOKUP($P21,DATA!$B$1:$Q$380,5,FALSE))) | D21: =+IF(VLOOKUP($P21,DATA!$B$1:$Q$380,6,FALSE)=" ","",IF(VLOOKUP($P21,DATA!$B$1:$Q$380,6,FALSE)="","",VLOOKUP($P21,DATA!$B$1:$Q$380,6,FALSE))) | E21: =+IF(VLOOKUP($P21,DATA!$B$1:$Q$380,7,FALSE)=" ","",IF(VLOOKUP($P21,DATA!$B$1:$Q$380,7,FALSE)="","",VLOOKUP($P21,DATA!$B$1:$Q$380,7,FALSE))) | F21: =+IF(VLOOKUP($P21,DATA!$B$1:$Q$380,8,FALSE)=" ","",IF(VLOOKUP($P21,DATA!$B$1:$Q$380,8,FALSE)="","",VLOOKUP($P21,DATA!$B$1:$Q$380,8,FALSE))) | G21: =+IF(VLOOKUP($P21,DATA!$B$1:$Q$380,9,FALSE)=" ","",IF(VLOOKUP($P21,DATA!$B$1:$Q$380,9,FALSE)="","",VLOOKUP($P21,DATA!$B$1:$Q$380,9,FALSE))) | H21: =+IF(VLOOKUP($P21,DATA!$B$1:$Q$380,10,FALSE)=" ","",IF(VLOOKUP($P21,DATA!$B$1:$Q$380,10,FALSE)="","",VLOOKUP($P21,DATA!$B$1:$Q$380,10,FALSE))) | I21: =+IF(VLOOKUP($P21,DATA!$B$1:$Q$380,11,FALSE)=" ","",IF(VLOOKUP($P21,DATA!$B$1:$Q$380,11,FALSE)="","",VLOOKUP($P21,DATA!$B$1:$Q$380,11,FALSE))) | J21: =+IF(VLOOKUP($P21,DATA!$B$1:$Q$380,12,FALSE)=" ","",IF(VLOOKUP($P21,DATA!$B$1:$Q$380,12,FALSE)="","",VLOOKUP($P21,DATA!$B$1:$Q$380,12,FALSE))) | K21: =+IF(VLOOKUP($P21,DATA!$B$1:$Q$380,13,FALSE)=" ","",IF(VLOOKUP($P21,DATA!$B$1:$Q$380,13,FALSE)="","",VLOOKUP($P21,DATA!$B$1:$Q$380,13,FALSE))) | L21: =+IF(VLOOKUP($P21,DATA!$B$1:$Q$380,14,FALSE)=" ","",IF(VLOOKUP($P21,DATA!$B$1:$Q$380,14,FALSE)="","",VLOOKUP($P21,DATA!$B$1:$Q$380,14,FALSE))) | O21: 12 | P21: =+($L$5)&O21 -> 6824F12
A22: =+A11 -> 2015 | B22: =+IF(VLOOKUP($P22,DATA!$B$1:$Q$380,4,FALSE)=" ","",IF(VLOOKUP($P22,DATA!$B$1:$Q$380,4,FALSE)="","",VLOOKUP($P22,DATA!$B$1:$Q$380,4,FALSE))) | C22: =+IF(VLOOKUP($P22,DATA!$B$1:$Q$380,5,FALSE)=" ","",IF(VLOOKUP($P22,DATA!$B$1:$Q$380,5,FALSE)="","",VLOOKUP($P22,DATA!$B$1:$Q$380,5,FALSE))) | D22: =+IF(VLOOKUP($P22,DATA!$B$1:$Q$380,6,FALSE)=" ","",IF(VLOOKUP($P22,DATA!$B$1:$Q$380,6,FALSE)="","",VLOOKUP($P22,DATA!$B$1:$Q$380,6,FALSE))) | E22: =+IF(VLOOKUP($P22,DATA!$B$1:$Q$380,7,FALSE)=" ","",IF(VLOOKUP($P22,DATA!$B$1:$Q$380,7,FALSE)="","",VLOOKUP($P22,DATA!$B$1:$Q$380,7,FALSE))) | F22: =+IF(VLOOKUP($P22,DATA!$B$1:$Q$380,8,FALSE)=" ","",IF(VLOOKUP($P22,DATA!$B$1:$Q$380,8,FALSE)="","",VLOOKUP($P22,DATA!$B$1:$Q$380,8,FALSE))) | G22: =+IF(VLOOKUP($P22,DATA!$B$1:$Q$380,9,FALSE)=" ","",IF(VLOOKUP($P22,DATA!$B$1:$Q$380,9,FALSE)="","",VLOOKUP($P22,DATA!$B$1:$Q$380,9,FALSE))) | H22: =+IF(VLOOKUP($P22,DATA!$B$1:$Q$380,10,FALSE)=" ","",IF(VLOOKUP($P22,DATA!$B$1:$Q$380,10,FALSE)="","",VLOOKUP($P22,DATA!$B$1:$Q$380,10,FALSE))) | I22: =+IF(VLOOKUP($P22,DATA!$B$1:$Q$380,11,FALSE)=" ","",IF(VLOOKUP($P22,DATA!$B$1:$Q$380,11,FALSE)="","",VLOOKUP($P22,DATA!$B$1:$Q$380,11,FALSE))) | J22: =+IF(VLOOKUP($P22,DATA!$B$1:$Q$380,12,FALSE)=" ","",IF(VLOOKUP($P22,DATA!$B$1:$Q$380,12,FALSE)="","",VLOOKUP($P22,DATA!$B$1:$Q$380,12,FALSE))) | K22: =+IF(VLOOKUP($P22,DATA!$B$1:$Q$380,13,FALSE)=" ","",IF(VLOOKUP($P22,DATA!$B$1:$Q$380,13,FALSE)="","",VLOOKUP($P22,DATA!$B$1:$Q$380,13,FALSE))) | L22: =+IF(VLOOKUP($P22,DATA!$B$1:$Q$380,14,FALSE)=" ","",IF(VLOOKUP($P22,DATA!$B$1:$Q$380,14,FALSE)="","",VLOOKUP($P22,DATA!$B$1:$Q$380,14,FALSE))) | O22: 13 | P22: =+($L$5)&O22 -> 6824F13
A23: =+A12 -> 2016 | B23: =+IF(VLOOKUP($P23,DATA!$B$1:$Q$380,4,FALSE)=" ","",IF(VLOOKUP($P23,DATA!$B$1:$Q$380,4,FALSE)="","",VLOOKUP($P23,DATA!$B$1:$Q$380,4,FALSE))) | C23: =+IF(VLOOKUP($P23,DATA!$B$1:$Q$380,5,FALSE)=" ","",IF(VLOOKUP($P23,DATA!$B$1:$Q$380,5,FALSE)="","",VLOOKUP($P23,DATA!$B$1:$Q$380,5,FALSE))) | D23: =+IF(VLOOKUP($P23,DATA!$B$1:$Q$380,6,FALSE)=" ","",IF(VLOOKUP($P23,DATA!$B$1:$Q$380,6,FALSE)="","",VLOOKUP($P23,DATA!$B$1:$Q$380,6,FALSE))) | E23: =+IF(VLOOKUP($P23,DATA!$B$1:$Q$380,7,FALSE)=" ","",IF(VLOOKUP($P23,DATA!$B$1:$Q$380,7,FALSE)="","",VLOOKUP($P23,DATA!$B$1:$Q$380,7,FALSE))) | F23: =+IF(VLOOKUP($P23,DATA!$B$1:$Q$380,8,FALSE)=" ","",IF(VLOOKUP($P23,DATA!$B$1:$Q$380,8,FALSE)="","",VLOOKUP($P23,DATA!$B$1:$Q$380,8,FALSE))) -> 453 | G23: =+IF(VLOOKUP($P23,DATA!$B$1:$Q$380,9,FALSE)=" ","",IF(VLOOKUP($P23,DATA!$B$1:$Q$380,9,FALSE)="","",VLOOKUP($P23,DATA!$B$1:$Q$380,9,FALSE))) | H23: =+IF(VLOOKUP($P23,DATA!$B$1:$Q$380,10,FALSE)=" ","",IF(VLOOKUP($P23,DATA!$B$1:$Q$380,10,FALSE)="","",VLOOKUP($P23,DATA!$B$1:$Q$380,10,FALSE))) | I23: =+IF(VLOOKUP($P23,DATA!$B$1:$Q$380,11,FALSE)=" ","",IF(VLOOKUP($P23,DATA!$B$1:$Q$380,11,FALSE)="","",VLOOKUP($P23,DATA!$B$1:$Q$380,11,FALSE))) | J23: =+IF(VLOOKUP($P23,DATA!$B$1:$Q$380,12,FALSE)=" ","",IF(VLOOKUP($P23,DATA!$B$1:$Q$380,12,FALSE)="","",VLOOKUP($P23,DATA!$B$1:$Q$380,12,FALSE))) | K23: =+IF(VLOOKUP($P23,DATA!$B$1:$Q$380,13,FALSE)=" ","",IF(VLOOKUP($P23,DATA!$B$1:$Q$380,13,FALSE)="","",VLOOKUP($P23,DATA!$B$1:$Q$380,13,FALSE))) -> 761 | L23: =+IF(VLOOKUP($P23,DATA!$B$1:$Q$380,14,FALSE)=" ","",IF(VLOOKUP($P23,DATA!$B$1:$Q$380,14,FALSE)="","",VLOOKUP($P23,DATA!$B$1:$Q$380,14,FALSE))) | O23: 14 | P23: =+($L$5)&O23 -> 6824F14
A24: =+A13 -> 2017 | B24: =+IF(VLOOKUP($P24,DATA!$B$1:$Q$380,4,FALSE)=" ","",IF(VLOOKUP($P24,DATA!$B$1:$Q$380,4,FALSE)="","",VLOOKUP($P24,DATA!$B$1:$Q$380,4,FALSE))) | C24: =+IF(VLOOKUP($P24,DATA!$B$1:$Q$380,5,FALSE)=" ","",IF(VLOOKUP($P24,DATA!$B$1:$Q$380,5,FALSE)="","",VLOOKUP($P24,DATA!$B$1:$Q$380,5,FALSE))) | D24: =+IF(VLOOKUP($P24,DATA!$B$1:$Q$380,6,FALSE)=" ","",IF(VLOOKUP($P24,DATA!$B$1:$Q$380,6,FALSE)="","",VLOOKUP($P24,DATA!$B$1:$Q$380,6,FALSE))) | E24: =+IF(VLOOKUP($P24,DATA!$B$1:$Q$380,7,FALSE)=" ","",IF(VLOOKUP($P24,DATA!$B$1:$Q$380,7,FALSE)="","",VLOOKUP($P24,DATA!$B$1:$Q$380,7,FALSE))) | F24: =+IF(VLOOKUP($P24,DATA!$B$1:$Q$380,8,FALSE)=" ","",IF(VLOOKUP($P24,DATA!$B$1:$Q$380,8,FALSE)="","",VLOOKUP($P24,DATA!$B$1:$Q$380,8,FALSE))) | G24: =+IF(VLOOKUP($P24,DATA!$B$1:$Q$380,9,FALSE)=" ","",IF(VLOOKUP($P24,DATA!$B$1:$Q$380,9,FALSE)="","",VLOOKUP($P24,DATA!$B$1:$Q$380,9,FALSE))) | H24: =+IF(VLOOKUP($P24,DATA!$B$1:$Q$380,10,FALSE)=" ","",IF(VLOOKUP($P24,DATA!$B$1:$Q$380,10,FALSE)="","",VLOOKUP($P24,DATA!$B$1:$Q$380,10,FALSE))) | I24: =+IF(VLOOKUP($P24,DATA!$B$1:$Q$380,11,FALSE)=" ","",IF(VLOOKUP($P24,DATA!$B$1:$Q$380,11,FALSE)="","",VLOOKUP($P24,DATA!$B$1:$Q$380,11,FALSE))) | J24: =+IF(VLOOKUP($P24,DATA!$B$1:$Q$380,12,FALSE)=" ","",IF(VLOOKUP($P24,DATA!$B$1:$Q$380,12,FALSE)="","",VLOOKUP($P24,DATA!$B$1:$Q$380,12,FALSE))) | K24: =+IF(VLOOKUP($P24,DATA!$B$1:$Q$380,13,FALSE)=" ","",IF(VLOOKUP($P24,DATA!$B$1:$Q$380,13,FALSE)="","",VLOOKUP($P24,DATA!$B$1:$Q$380,13,FALSE))) | L24: =+IF(VLOOKUP($P24,DATA!$B$1:$Q$380,14,FALSE)=" ","",IF(VLOOKUP($P24,DATA!$B$1:$Q$380,14,FALSE)="","",VLOOKUP($P24,DATA!$B$1:$Q$380,14,FALSE))) | O24: 15 | P24: =+($L$5)&O24 -> 6824F15
A25: TOTAL | B25: =+IF(VLOOKUP($P25,DATA!$B$1:$Q$380,4,FALSE)=" ","",IF(VLOOKUP($P25,DATA!$B$1:$Q$380,4,FALSE)="","",VLOOKUP($P25,DATA!$B$1:$Q$380,4,FALSE))) | C25: =+IF(VLOOKUP($P25,DATA!$B$1:$Q$380,5,FALSE)=" ","",IF(VLOOKUP($P25,DATA!$B$1:$Q$380,5,FALSE)="","",VLOOKUP($P25,DATA!$B$1:$Q$380,5,FALSE))) | D25: =+IF(VLOOKUP($P25,DATA!$B$1:$Q$380,6,FALSE)=" ","",IF(VLOOKUP($P25,DATA!$B$1:$Q$380,6,FALSE)="","",VLOOKUP($P25,DATA!$B$1:$Q$380,6,FALSE))) | E25: =+IF(VLOOKUP($P25,DATA!$B$1:$Q$380,7,FALSE)=" ","",IF(VLOOKUP($P25,DATA!$B$1:$Q$380,7,FALSE)="","",VLOOKUP($P25,DATA!$B$1:$Q$380,7,FALSE))) | F25: =+IF(VLOOKUP($P25,DATA!$B$1:$Q$380,8,FALSE)=" ","",IF(VLOOKUP($P25,DATA!$B$1:$Q$380,8,FALSE)="","",VLOOKUP($P25,DATA!$B$1:$Q$380,8,FALSE))) -> 453 | G25: =+IF(VLOOKUP($P25,DATA!$B$1:$Q$380,9,FALSE)=" ","",IF(VLOOKUP($P25,DATA!$B$1:$Q$380,9,FALSE)="","",VLOOKUP($P25,DATA!$B$1:$Q$380,9,FALSE))) | H25: =+IF(VLOOKUP($P25,DATA!$B$1:$Q$380,10,FALSE)=" ","",IF(VLOOKUP($P25,DATA!$B$1:$Q$380,10,FALSE)="","",VLOOKUP($P25,DATA!$B$1:$Q$380,10,FALSE))) | I25: =+IF(VLOOKUP($P25,DATA!$B$1:$Q$380,11,FALSE)=" ","",IF(VLOOKUP($P25,DATA!$B$1:$Q$380,11,FALSE)="","",VLOOKUP($P25,DATA!$B$1:$Q$380,11,FALSE))) | J25: =+IF(VLOOKUP($P25,DATA!$B$1:$Q$380,12,FALSE)=" ","",IF(VLOOKUP($P25,DATA!$B$1:$Q$380,12,FALSE)="","",VLOOKUP($P25,DATA!$B$1:$Q$380,12,FALSE))) | K25: =+IF(VLOOKUP($P25,DATA!$B$1:$Q$380,13,FALSE)=" ","",IF(VLOOKUP($P25,DATA!$B$1:$Q$380,13,FALSE)="","",VLOOKUP($P25,DATA!$B$1:$Q$380,13,FALSE))) -> 761 | L25: =+IF(VLOOKUP($P25,DATA!$B$1:$Q$380,14,FALSE)=" ","",IF(VLOOKUP($P25,DATA!$B$1:$Q$380,14,FALSE)="","",VLOOKUP($P25,DATA!$B$1:$Q$380,14,FALSE))) | O25: 16 | P25: =+($L$5)&O25 -> 6824F16
A26: O.D. | B26: =+IF(VLOOKUP($P26,DATA!$B$1:$Q$380,4,FALSE)=" ","",IF(VLOOKUP($P26,DATA!$B$1:$Q$380,4,FALSE)="","",VLOOKUP($P26,DATA!$B$1:$Q$380,4,FALSE))) | C26: =+IF(VLOOKUP($P26,DATA!$B$1:$Q$380,5,FALSE)=" ","",IF(VLOOKUP($P26,DATA!$B$1:$Q$380,5,FALSE)="","",VLOOKUP($P26,DATA!$B$1:$Q$380,5,FALSE))) | D26: =+IF(VLOOKUP($P26,DATA!$B$1:$Q$380,6,FALSE)=" ","",IF(VLOOKUP($P26,DATA!$B$1:$Q$380,6,FALSE)="","",VLOOKUP($P26,DATA!$B$1:$Q$380,6,FALSE))) | E26: =+IF(VLOOKUP($P26,DATA!$B$1:$Q$380,7,FALSE)=" ","",IF(VLOOKUP($P26,DATA!$B$1:$Q$380,7,FALSE)="","",VLOOKUP($P26,DATA!$B$1:$Q$380,7,FALSE))) | F26: =+IF(VLOOKUP($P26,DATA!$B$1:$Q$380,8,FALSE)=" ","",IF(VLOOKUP($P26,DATA!$B$1:$Q$380,8,FALSE)="","",VLOOKUP($P26,DATA!$B$1:$Q$380,8,FALSE))) | G26: =+IF(VLOOKUP($P26,DATA!$B$1:$Q$380,9,FALSE)=" ","",IF(VLOOKUP($P26,DATA!$B$1:$Q$380,9,FALSE)="","",VLOOKUP($P26,DATA!$B$1:$Q$380,9,FALSE))) | H26: =+IF(VLOOKUP($P26,DATA!$B$1:$Q$380,10,FALSE)=" ","",IF(VLOOKUP($P26,DATA!$B$1:$Q$380,10,FALSE)="","",VLOOKUP($P26,DATA!$B$1:$Q$380,10,FALSE))) | I26: =+IF(VLOOKUP($P26,DATA!$B$1:$Q$380,11,FALSE)=" ","",IF(VLOOKUP($P26,DATA!$B$1:$Q$380,11,FALSE)="","",VLOOKUP($P26,DATA!$B$1:$Q$380,11,FALSE))) | J26: =+IF(VLOOKUP($P26,DATA!$B$1:$Q$380,12,FALSE)=" ","",IF(VLOOKUP($P26,DATA!$B$1:$Q$380,12,FALSE)="","",VLOOKUP($P26,DATA!$B$1:$Q$380,12,FALSE))) | K26: =+IF(VLOOKUP($P26,DATA!$B$1:$Q$380,13,FALSE)=" ","",IF(VLOOKUP($P26,DATA!$B$1:$Q$380,13,FALSE)="","",VLOOKUP($P26,DATA!$B$1:$Q$380,13,FALSE))) | L26: =+IF(VLOOKUP($P26,DATA!$B$1:$Q$380,14,FALSE)=" ","",IF(VLOOKUP($P26,DATA!$B$1:$Q$380,14,FALSE)="","",VLOOKUP($P26,DATA!$B$1:$Q$380,14,FALSE))) | O26: 17 | P26: =+($L$5)&O26 -> 6824F17
F28: TRANSLATED LOSSES
A29: Manual | D29: Indemnity | I29: Medical
A30: Year | B30: Death | C30: P.T. | D30: Major | E30: Minor | F30: Temp | G30: Death | H30: P.T. | I30: Major | J30: Minor | K30: Temp | L30: Med. Only
A31: =+A20 -> 2013 | B31: =+IF(VLOOKUP($P31,DATA!$B$1:$Q$380,4,FALSE)=" ","",IF(VLOOKUP($P31,DATA!$B$1:$Q$380,4,FALSE)="","",VLOOKUP($P31,DATA!$B$1:$Q$380,4,FALSE))) | C31: =+IF(VLOOKUP($P31,DATA!$B$1:$Q$380,5,FALSE)=" ","",IF(VLOOKUP($P31,DATA!$B$1:$Q$380,5,FALSE)="","",VLOOKUP($P31,DATA!$B$1:$Q$380,5,FALSE))) | D31: =+IF(VLOOKUP($P31,DATA!$B$1:$Q$380,6,FALSE)=" ","",IF(VLOOKUP($P31,DATA!$B$1:$Q$380,6,FALSE)="","",VLOOKUP($P31,DATA!$B$1:$Q$380,6,FALSE))) | E31: =+IF(VLOOKUP($P31,DATA!$B$1:$Q$380,7,FALSE)=" ","",IF(VLOOKUP($P31,DATA!$B$1:$Q$380,7,FALSE)="","",VLOOKUP($P31,DATA!$B$1:$Q$380,7,FALSE))) | F31: =+IF(VLOOKUP($P31,DATA!$B$1:$Q$380,8,FALSE)=" ","",IF(VLOOKUP($P31,DATA!$B$1:$Q$380,8,FALSE)="","",VLOOKUP($P31,DATA!$B$1:$Q$380,8,FALSE))) | G31: =+IF(VLOOKUP($P31,DATA!$B$1:$Q$380,9,FALSE)=" ","",IF(VLOOKUP($P31,DATA!$B$1:$Q$380,9,FALSE)="","",VLOOKUP($P31,DATA!$B$1:$Q$380,9,FALSE))) | H31: =+IF(VLOOKUP($P31,DATA!$B$1:$Q$380,10,FALSE)=" ","",IF(VLOOKUP($P31,DATA!$B$1:$Q$380,10,FALSE)="","",VLOOKUP($P31,DATA!$B$1:$Q$380,10,FALSE))) | I31: =+IF(VLOOKUP($P31,DATA!$B$1:$Q$380,11,FALSE)=" ","",IF(VLOOKUP($P31,DATA!$B$1:$Q$380,11,FALSE)="","",VLOOKUP($P31,DATA!$B$1:$Q$380,11,FALSE))) | J31: =+IF(VLOOKUP($P31,DATA!$B$1:$Q$380,12,FALSE)=" ","",IF(VLOOKUP($P31,DATA!$B$1:$Q$380,12,FALSE)="","",VLOOKUP($P31,DATA!$B$1:$Q$380,12,FALSE))) | K31: =+IF(VLOOKUP($P31,DATA!$B$1:$Q$380,13,FALSE)=" ","",IF(VLOOKUP($P31,DATA!$B$1:$Q$380,13,FALSE)="","",VLOOKUP($P31,DATA!$B$1:$Q$380,13,FALSE))) | L31: =+IF(VLOOKUP($P31,DATA!$B$1:$Q$380,14,FALSE)=" ","",IF(VLOOKUP($P31,DATA!$B$1:$Q$380,14,FALSE)="","",VLOOKUP($P31,DATA!$B$1:$Q$380,14,FALSE))) | O31: 18 | P31: =+($L$5)&O31 -> 6824F18
A32: =+A21 -> 2014 | B32: =+IF(VLOOKUP($P32,DATA!$B$1:$Q$380,4,FALSE)=" ","",IF(VLOOKUP($P32,DATA!$B$1:$Q$380,4,FALSE)="","",VLOOKUP($P32,DATA!$B$1:$Q$380,4,FALSE))) | C32: =+IF(VLOOKUP($P32,DATA!$B$1:$Q$380,5,FALSE)=" ","",IF(VLOOKUP($P32,DATA!$B$1:$Q$380,5,FALSE)="","",VLOOKUP($P32,DATA!$B$1:$Q$380,5,FALSE))) | D32: =+IF(VLOOKUP($P32,DATA!$B$1:$Q$380,6,FALSE)=" ","",IF(VLOOKUP($P32,DATA!$B$1:$Q$380,6,FALSE)="","",VLOOKUP($P32,DATA!$B$1:$Q$380,6,FALSE))) | E32: =+IF(VLOOKUP($P32,DATA!$B$1:$Q$380,7,FALSE)=" ","",IF(VLOOKUP($P32,DATA!$B$1:$Q$380,7,FALSE)="","",VLOOKUP($P32,DATA!$B$1:$Q$380,7,FALSE))) | F32: =+IF(VLOOKUP($P32,DATA!$B$1:$Q$380,8,FALSE)=" ","",IF(VLOOKUP($P32,DATA!$B$1:$Q$380,8,FALSE)="","",VLOOKUP($P32,DATA!$B$1:$Q$380,8,FALSE))) | G32: =+IF(VLOOKUP($P32,DATA!$B$1:$Q$380,9,FALSE)=" ","",IF(VLOOKUP($P32,DATA!$B$1:$Q$380,9,FALSE)="","",VLOOKUP($P32,DATA!$B$1:$Q$380,9,FALSE))) | H32: =+IF(VLOOKUP($P32,DATA!$B$1:$Q$380,10,FALSE)=" ","",IF(VLOOKUP($P32,DATA!$B$1:$Q$380,10,FALSE)="","",VLOOKUP($P32,DATA!$B$1:$Q$380,10,FALSE))) | I32: =+IF(VLOOKUP($P32,DATA!$B$1:$Q$380,11,FALSE)=" ","",IF(VLOOKUP($P32,DATA!$B$1:$Q$380,11,FALSE)="","",VLOOKUP($P32,DATA!$B$1:$Q$380,11,FALSE))) | J32: =+IF(VLOOKUP($P32,DATA!$B$1:$Q$380,12,FALSE)=" ","",IF(VLOOKUP($P32,DATA!$B$1:$Q$380,12,FALSE)="","",VLOOKUP($P32,DATA!$B$1:$Q$380,12,FALSE))) | K32: =+IF(VLOOKUP($P32,DATA!$B$1:$Q$380,13,FALSE)=" ","",IF(VLOOKUP($P32,DATA!$B$1:$Q$380,13,FALSE)="","",VLOOKUP($P32,DATA!$B$1:$Q$380,13,FALSE))) | L32: =+IF(VLOOKUP($P32,DATA!$B$1:$Q$380,14,FALSE)=" ","",IF(VLOOKUP($P32,DATA!$B$1:$Q$380,14,FALSE)="","",VLOOKUP($P32,DATA!$B$1:$Q$380,14,FALSE))) | O32: 19 | P32: =+($L$5)&O32 -> 6824F19
A33: =+A22 -> 2015 | B33: =+IF(VLOOKUP($P33,DATA!$B$1:$Q$380,4,FALSE)=" ","",IF(VLOOKUP($P33,DATA!$B$1:$Q$380,4,FALSE)="","",VLOOKUP($P33,DATA!$B$1:$Q$380,4,FALSE))) | C33: =+IF(VLOOKUP($P33,DATA!$B$1:$Q$380,5,FALSE)=" ","",IF(VLOOKUP($P33,DATA!$B$1:$Q$380,5,FALSE)="","",VLOOKUP($P33,DATA!$B$1:$Q$380,5,FALSE))) | D33: =+IF(VLOOKUP($P33,DATA!$B$1:$Q$380,6,FALSE)=" ","",IF(VLOOKUP($P33,DATA!$B$1:$Q$380,6,FALSE)="","",VLOOKUP($P33,DATA!$B$1:$Q$380,6,FALSE))) | E33: =+IF(VLOOKUP($P33,DATA!$B$1:$Q$380,7,FALSE)=" ","",IF(VLOOKUP($P33,DATA!$B$1:$Q$380,7,FALSE)="","",VLOOKUP($P33,DATA!$B$1:$Q$380,7,FALSE))) | F33: =+IF(VLOOKUP($P33,DATA!$B$1:$Q$380,8,FALSE)=" ","",IF(VLOOKUP($P33,DATA!$B$1:$Q$380,8,FALSE)="","",VLOOKUP($P33,DATA!$B$1:$Q$380,8,FALSE))) | G33: =+IF(VLOOKUP($P33,DATA!$B$1:$Q$380,9,FALSE)=" ","",IF(VLOOKUP($P33,DATA!$B$1:$Q$380,9,FALSE)="","",VLOOKUP($P33,DATA!$B$1:$Q$380,9,FALSE))) | H33: =+IF(VLOOKUP($P33,DATA!$B$1:$Q$380,10,FALSE)=" ","",IF(VLOOKUP($P33,DATA!$B$1:$Q$380,10,FALSE)="","",VLOOKUP($P33,DATA!$B$1:$Q$380,10,FALSE))) | I33: =+IF(VLOOKUP($P33,DATA!$B$1:$Q$380,11,FALSE)=" ","",IF(VLOOKUP($P33,DATA!$B$1:$Q$380,11,FALSE)="","",VLOOKUP($P33,DATA!$B$1:$Q$380,11,FALSE))) | J33: =+IF(VLOOKUP($P33,DATA!$B$1:$Q$380,12,FALSE)=" ","",IF(VLOOKUP($P33,DATA!$B$1:$Q$380,12,FALSE)="","",VLOOKUP($P33,DATA!$B$1:$Q$380,12,FALSE))) | K33: =+IF(VLOOKUP($P33,DATA!$B$1:$Q$380,13,FALSE)=" ","",IF(VLOOKUP($P33,DATA!$B$1:$Q$380,13,FALSE)="","",VLOOKUP($P33,DATA!$B$1:$Q$380,13,FALSE))) | L33: =+IF(VLOOKUP($P33,DATA!$B$1:$Q$380,14,FALSE)=" ","",IF(VLOOKUP($P33,DATA!$B$1:$Q$380,14,FALSE)="","",VLOOKUP($P33,DATA!$B$1:$Q$380,14,FALSE))) | O33: 20 | P33: =+($L$5)&O33 -> 6824F20
A34: =+A23 -> 2016 | B34: =+IF(VLOOKUP($P34,DATA!$B$1:$Q$380,4,FALSE)=" ","",IF(VLOOKUP($P34,DATA!$B$1:$Q$380,4,FALSE)="","",VLOOKUP($P34,DATA!$B$1:$Q$380,4,FALSE))) | C34: =+IF(VLOOKUP($P34,DATA!$B$1:$Q$380,5,FALSE)=" ","",IF(VLOOKUP($P34,DATA!$B$1:$Q$380,5,FALSE)="","",VLOOKUP($P34,DATA!$B$1:$Q$380,5,FALSE))) | D34: =+IF(VLOOKUP($P34,DATA!$B$1:$Q$380,6,FALSE)=" ","",IF(VLOOKUP($P34,DATA!$B$1:$Q$380,6,FALSE)="","",VLOOKUP($P34,DATA!$B$1:$Q$380,6,FALSE))) | E34: =+IF(VLOOKUP($P34,DATA!$B$1:$Q$380,7,FALSE)=" ","",IF(VLOOKUP($P34,DATA!$B$1:$Q$380,7,FALSE)="","",VLOOKUP($P34,DATA!$B$1:$Q$380,7,FALSE))) | F34: =+IF(VLOOKUP($P34,DATA!$B$1:$Q$380,8,FALSE)=" ","",IF(VLOOKUP($P34,DATA!$B$1:$Q$380,8,FALSE)="","",VLOOKUP($P34,DATA!$B$1:$Q$380,8,FALSE))) -> 863 | G34: =+IF(VLOOKUP($P34,DATA!$B$1:$Q$380,9,FALSE)=" ","",IF(VLOOKUP($P34,DATA!$B$1:$Q$380,9,FALSE)="","",VLOOKUP($P34,DATA!$B$1:$Q$380,9,FALSE))) | H34: =+IF(VLOOKUP($P34,DATA!$B$1:$Q$380,10,FALSE)=" ","",IF(VLOOKUP($P34,DATA!$B$1:$Q$380,10,FALSE)="","",VLOOKUP($P34,DATA!$B$1:$Q$380,10,FALSE))) | I34: =+IF(VLOOKUP($P34,DATA!$B$1:$Q$380,11,FALSE)=" ","",IF(VLOOKUP($P34,DATA!$B$1:$Q$380,11,FALSE)="","",VLOOKUP($P34,DATA!$B$1:$Q$380,11,FALSE))) | J34: =+IF(VLOOKUP($P34,DATA!$B$1:$Q$380,12,FALSE)=" ","",IF(VLOOKUP($P34,DATA!$B$1:$Q$380,12,FALSE)="","",VLOOKUP($P34,DATA!$B$1:$Q$380,12,FALSE))) | K34: =+IF(VLOOKUP($P34,DATA!$B$1:$Q$380,13,FALSE)=" ","",IF(VLOOKUP($P34,DATA!$B$1:$Q$380,13,FALSE)="","",VLOOKUP($P34,DATA!$B$1:$Q$380,13,FALSE))) -> 3079 | L34: =+IF(VLOOKUP($P34,DATA!$B$1:$Q$380,14,FALSE)=" ","",IF(VLOOKUP($P34,DATA!$B$1:$Q$380,14,FALSE)="","",VLOOKUP($P34,DATA!$B$1:$Q$380,14,FALSE))) | O34: 21 | P34: =+($L$5)&O34 -> 6824F21
A35: =+A24 -> 2017 | B35: =+IF(VLOOKUP($P35,DATA!$B$1:$Q$380,4,FALSE)=" ","",IF(VLOOKUP($P35,DATA!$B$1:$Q$380,4,FALSE)="","",VLOOKUP($P35,DATA!$B$1:$Q$380,4,FALSE))) | C35: =+IF(VLOOKUP($P35,DATA!$B$1:$Q$380,5,FALSE)=" ","",IF(VLOOKUP($P35,DATA!$B$1:$Q$380,5,FALSE)="","",VLOOKUP($P35,DATA!$B$1:$Q$380,5,FALSE))) | D35: =+IF(VLOOKUP($P35,DATA!$B$1:$Q$380,6,FALSE)=" ","",IF(VLOOKUP($P35,DATA!$B$1:$Q$380,6,FALSE)="","",VLOOKUP($P35,DATA!$B$1:$Q$380,6,FALSE))) | E35: =+IF(VLOOKUP($P35,DATA!$B$1:$Q$380,7,FALSE)=" ","",IF(VLOOKUP($P35,DATA!$B$1:$Q$380,7,FALSE)="","",VLOOKUP($P35,DATA!$B$1:$Q$380,7,FALSE))) | F35: =+IF(VLOOKUP($P35,DATA!$B$1:$Q$380,8,FALSE)=" ","",IF(VLOOKUP($P35,DATA!$B$1:$Q$380,8,FALSE)="","",VLOOKUP($P35,DATA!$B$1:$Q$380,8,FALSE))) | G35: =+IF(VLOOKUP($P35,DATA!$B$1:$Q$380,9,FALSE)=" ","",IF(VLOOKUP($P35,DATA!$B$1:$Q$380,9,FALSE)="","",VLOOKUP($P35,DATA!$B$1:$Q$380,9,FALSE))) | H35: =+IF(VLOOKUP($P35,DATA!$B$1:$Q$380,10,FALSE)=" ","",IF(VLOOKUP($P35,DATA!$B$1:$Q$380,10,FALSE)="","",VLOOKUP($P35,DATA!$B$1:$Q$380,10,FALSE))) | I35: =+IF(VLOOKUP($P35,DATA!$B$1:$Q$380,11,FALSE)=" ","",IF(VLOOKUP($P35,DATA!$B$1:$Q$380,11,FALSE)="","",VLOOKUP($P35,DATA!$B$1:$Q$380,11,FALSE))) | J35: =+IF(VLOOKUP($P35,DATA!$B$1:$Q$380,12,FALSE)=" ","",IF(VLOOKUP($P35,DATA!$B$1:$Q$380,12,FALSE)="","",VLOOKUP($P35,DATA!$B$1:$Q$380,12,FALSE))) | K35: =+IF(VLOOKUP($P35,DATA!$B$1:$Q$380,13,FALSE)=" ","",IF(VLOOKUP($P35,DATA!$B$1:$Q$380,13,FALSE)="","",VLOOKUP($P35,DATA!$B$1:$Q$380,13,FALSE))) | L35: =+IF(VLOOKUP($P35,DATA!$B$1:$Q$380,14,FALSE)=" ","",IF(VLOOKUP($P35,DATA!$B$1:$Q$380,14,FALSE)="","",VLOOKUP($P35,DATA!$B$1:$Q$380,14,FALSE))) | O35: 22 | P35: =+($L$5)&O35 -> 6824F22
A36: TOTAL | B36: =+IF(VLOOKUP($P36,DATA!$B$1:$Q$380,4,FALSE)=" ","",IF(VLOOKUP($P36,DATA!$B$1:$Q$380,4,FALSE)="","",VLOOKUP($P36,DATA!$B$1:$Q$380,4,FALSE))) | C36: =+IF(VLOOKUP($P36,DATA!$B$1:$Q$380,5,FALSE)=" ","",IF(VLOOKUP($P36,DATA!$B$1:$Q$380,5,FALSE)="","",VLOOKUP($P36,DATA!$B$1:$Q$380,5,FALSE))) | D36: =+IF(VLOOKUP($P36,DATA!$B$1:$Q$380,6,FALSE)=" ","",IF(VLOOKUP($P36,DATA!$B$1:$Q$380,6,FALSE)="","",VLOOKUP($P36,DATA!$B$1:$Q$380,6,FALSE))) | E36: =+IF(VLOOKUP($P36,DATA!$B$1:$Q$380,7,FALSE)=" ","",IF(VLOOKUP($P36,DATA!$B$1:$Q$380,7,FALSE)="","",VLOOKUP($P36,DATA!$B$1:$Q$380,7,FALSE))) | F36: =+IF(VLOOKUP($P36,DATA!$B$1:$Q$380,8,FALSE)=" ","",IF(VLOOKUP($P36,DATA!$B$1:$Q$380,8,FALSE)="","",VLOOKUP($P36,DATA!$B$1:$Q$380,8,FALSE))) -> 863 | G36: =+IF(VLOOKUP($P36,DATA!$B$1:$Q$380,9,FALSE)=" ","",IF(VLOOKUP($P36,DATA!$B$1:$Q$380,9,FALSE)="","",VLOOKUP($P36,DATA!$B$1:$Q$380,9,FALSE))) | H36: =+IF(VLOOKUP($P36,DATA!$B$1:$Q$380,10,FALSE)=" ","",IF(VLOOKUP($P36,DATA!$B$1:$Q$380,10,FALSE)="","",VLOOKUP($P36,DATA!$B$1:$Q$380,10,FALSE))) | I36: =+IF(VLOOKUP($P36,DATA!$B$1:$Q$380,11,FALSE)=" ","",IF(VLOOKUP($P36,DATA!$B$1:$Q$380,11,FALSE)="","",VLOOKUP($P36,DATA!$B$1:$Q$380,11,FALSE))) | J36: =+IF(VLOOKUP($P36,DATA!$B$1:$Q$380,12,FALSE)=" ","",IF(VLOOKUP($P36,DATA!$B$1:$Q$380,12,FALSE)="","",VLOOKUP($P36,DATA!$B$1:$Q$380,12,FALSE))) | K36: =+IF(VLOOKUP($P36,DATA!$B$1:$Q$380,13,FALSE)=" ","",IF(VLOOKUP($P36,DATA!$B$1:$Q$380,13,FALSE)="","",VLOOKUP($P36,DATA!$B$1:$Q$380,13,FALSE))) -> 3079 | L36: =+IF(VLOOKUP($P36,DATA!$B$1:$Q$380,14,FALSE)=" ","",IF(VLOOKUP($P36,DATA!$B$1:$Q$380,14,FALSE)="","",VLOOKUP($P36,DATA!$B$1:$Q$380,14,FALSE))) | O36: 23 | P36: =+($L$5)&O36 -> 6824F23
A37: O.D. | B37: =+IF(VLOOKUP($P37,DATA!$B$1:$Q$380,4,FALSE)=" ","",IF(VLOOKUP($P37,DATA!$B$1:$Q$380,4,FALSE)="","",VLOOKUP($P37,DATA!$B$1:$Q$380,4,FALSE))) | C37: =+IF(VLOOKUP($P37,DATA!$B$1:$Q$380,5,FALSE)=" ","",IF(VLOOKUP($P37,DATA!$B$1:$Q$380,5,FALSE)="","",VLOOKUP($P37,DATA!$B$1:$Q$380,5,FALSE))) | D37: =+IF(VLOOKUP($P37,DATA!$B$1:$Q$380,6,FALSE)=" ","",IF(VLOOKUP($P37,DATA!$B$1:$Q$380,6,FALSE)="","",VLOOKUP($P37,DATA!$B$1:$Q$380,6,FALSE))) | E37: =+IF(VLOOKUP($P37,DATA!$B$1:$Q$380,7,FALSE)=" ","",IF(VLOOKUP($P37,DATA!$B$1:$Q$380,7,FALSE)="","",VLOOKUP($P37,DATA!$B$1:$Q$380,7,FALSE))) | F37: =+IF(VLOOKUP($P37,DATA!$B$1:$Q$380,8,FALSE)=" ","",IF(VLOOKUP($P37,DATA!$B$1:$Q$380,8,FALSE)="","",VLOOKUP($P37,DATA!$B$1:$Q$380,8,FALSE))) | G37: =+IF(VLOOKUP($P37,DATA!$B$1:$Q$380,9,FALSE)=" ","",IF(VLOOKUP($P37,DATA!$B$1:$Q$380,9,FALSE)="","",VLOOKUP($P37,DATA!$B$1:$Q$380,9,FALSE))) | H37: =+IF(VLOOKUP($P37,DATA!$B$1:$Q$380,10,FALSE)=" ","",IF(VLOOKUP($P37,DATA!$B$1:$Q$380,10,FALSE)="","",VLOOKUP($P37,DATA!$B$1:$Q$380,10,FALSE))) | I37: =+IF(VLOOKUP($P37,DATA!$B$1:$Q$380,11,FALSE)=" ","",IF(VLOOKUP($P37,DATA!$B$1:$Q$380,11,FALSE)="","",VLOOKUP($P37,DATA!$B$1:$Q$380,11,FALSE))) | J37: =+IF(VLOOKUP($P37,DATA!$B$1:$Q$380,12,FALSE)=" ","",IF(VLOOKUP($P37,DATA!$B$1:$Q$380,12,FALSE)="","",VLOOKUP($P37,DATA!$B$1:$Q$380,12,FALSE))) | K37: =+IF(VLOOKUP($P37,DATA!$B$1:$Q$380,13,FALSE)=" ","",IF(VLOOKUP($P37,DATA!$B$1:$Q$380,13,FALSE)="","",VLOOKUP($P37,DATA!$B$1:$Q$380,13,FALSE))) | L37: =+IF(VLOOKUP($P37,DATA!$B$1:$Q$380,14,FALSE)=" ","",IF(VLOOKUP($P37,DATA!$B$1:$Q$380,14,FALSE)="","",VLOOKUP($P37,DATA!$B$1:$Q$380,14,FALSE))) | O37: 24 | P37: =+($L$5)&O37 -> 6824F24
G39: SERIOUS | H39: NON-SER | I39: MED ONLY | J39: TOTAL
D40: TOTAL TRANSLATED LOSSES PG B | G40: =+VLOOKUP($P40,DATA!$B$1:$Q$380,7,FALSE) | H40: =+VLOOKUP($P40,DATA!$B$1:$Q$380,8,FALSE) -> 3942 | I40: =+VLOOKUP($P40,DATA!$B$1:$Q$380,9,FALSE) | O40: 25 | P40: =+($L$5)&O40 -> 6824F25
D41: TOTAL TRANSLATED LOSSES PG A | G41: =+VLOOKUP($P41,DATA!$B$1:$Q$380,7,FALSE) | H41: =+VLOOKUP($P41,DATA!$B$1:$Q$380,8,FALSE) | I41: =+VLOOKUP($P41,DATA!$B$1:$Q$380,9,FALSE) | O41: 26 | P41: =+($L$5)&O41 -> 6824F26
D42: IBNR + FREQ. ADJUSTMENT | G42: =+VLOOKUP($P42,DATA!$B$1:$Q$380,7,FALSE) | H42: =+VLOOKUP($P42,DATA!$B$1:$Q$380,8,FALSE) -> -870 | I42: =+VLOOKUP($P42,DATA!$B$1:$Q$380,9,FALSE) | O42: 27 | P42: =+($L$5)&O42 -> 6824F27
D43: TOTAL LOSSES | G43: =+VLOOKUP($P43,DATA!$B$1:$Q$380,7,FALSE) | H43: =+VLOOKUP($P43,DATA!$B$1:$Q$380,8,FALSE) -> 3072 | I43: =+VLOOKUP($P43,DATA!$B$1:$Q$380,9,FALSE) | O43: 28 | P43: =+($L$5)&O43 -> 6824F28
D44: EXPECTED LOSSES | G44: =+VLOOKUP($P44,DATA!$B$1:$Q$380,7,FALSE) -> 1575 | H44: =+VLOOKUP($P44,DATA!$B$1:$Q$380,8,FALSE) -> 932 | I44: =+VLOOKUP($P44,DATA!$B$1:$Q$380,9,FALSE) -> 41 | O44: 29 | P44: =+($L$5)&O44 -> 6824F29
D45: CREDIBILITY | G45: =+VLOOKUP($P45,DATA!$B$1:$Q$380,7,FALSE) -> 0 | H45: =+VLOOKUP($P45,DATA!$B$1:$Q$380,8,FALSE) -> 0 | I45: =+VLOOKUP($P45,DATA!$B$1:$Q$380,9,FALSE) -> 0 | O45: 30 | P45: =+($L$5)&O45 -> 6824F30
D46: PURE PREMIUMS
D47: INDICATED (PRE-TEST) | G47: =+VLOOKUP($P47,DATA!$B$1:$Q$380,7,FALSE) -> 0 | H47: =+VLOOKUP($P47,DATA!$B$1:$Q$380,8,FALSE) -> 6.269 | I47: =+VLOOKUP($P47,DATA!$B$1:$Q$380,9,FALSE) -> 0 | J47: =+VLOOKUP($P47,DATA!$B$1:$Q$380,10,FALSE) -> 6.269 | O47: 31 | P47: =+($L$5)&O47 -> 6824F31
D48: INDICATED (POST-TEST) | G48: =+VLOOKUP($P48,DATA!$B$1:$Q$380,7,FALSE) -> 0 | H48: =+VLOOKUP($P48,DATA!$B$1:$Q$380,8,FALSE) -> 7.548 | I48: =+VLOOKUP($P48,DATA!$B$1:$Q$380,9,FALSE) -> 0 | J48: =+VLOOKUP($P48,DATA!$B$1:$Q$380,10,FALSE) -> 7.548 | O48: 32 | P48: =+($L$5)&O48 -> 6824F32
D49: PRES. ON RATE LEVEL | G49: =+VLOOKUP($P49,DATA!$B$1:$Q$380,7,FALSE) -> 3.274 | H49: =+VLOOKUP($P49,DATA!$B$1:$Q$380,8,FALSE) -> 1.938 | I49: =+VLOOKUP($P49,DATA!$B$1:$Q$380,9,FALSE) -> 0.085 | J49: =+VLOOKUP($P49,DATA!$B$1:$Q$380,10,FALSE) -> 5.297 | O49: 33 | P49: =+($L$5)&O49 -> 6824F33
D50: DERIVED BY FORMULA | G50: =+VLOOKUP($P50,DATA!$B$1:$Q$380,7,FALSE) -> 3.274 | H50: =+VLOOKUP($P50,DATA!$B$1:$Q$380,8,FALSE) -> 1.938 | I50: =+VLOOKUP($P50,DATA!$B$1:$Q$380,9,FALSE) -> 0.085 | J50: =+VLOOKUP($P50,DATA!$B$1:$Q$380,10,FALSE) -> 5.297 | O50: 34 | P50: =+($L$5)&O50 -> 6824F34
D51: UNDERLYING PRES. RATE | G51: =+VLOOKUP($P51,DATA!$B$1:$Q$380,7,FALSE) -> 3.214 | H51: =+VLOOKUP($P51,DATA!$B$1:$Q$380,8,FALSE) -> 1.903 | I51: =+VLOOKUP($P51,DATA!$B$1:$Q$380,9,FALSE) -> 0.083 | J51: =+VLOOKUP($P51,DATA!$B$1:$Q$380,10,FALSE) -> 5.2 | O51: 35 | P51: =+($L$5)&O51 -> 6824F35
D52: PROPOSED | G52: =+VLOOKUP($P52,DATA!$B$1:$Q$380,7,FALSE) -> 3.274 | H52: =+VLOOKUP($P52,DATA!$B$1:$Q$380,8,FALSE) -> 1.938 | I52: =+VLOOKUP($P52,DATA!$B$1:$Q$380,9,FALSE) -> 0.085 | J52: =+VLOOKUP($P52,DATA!$B$1:$Q$380,10,FALSE) -> 5.297 | O52: 36 | P52: =+($L$5)&O52 -> 6824F36
B54: YEAR | D54: =+VLOOKUP($P54,DATA!$B$1:$Q$380,5,FALSE) -> 12-1-10 | E54: =+VLOOKUP($P54,DATA!$B$1:$Q$380,6,FALSE) -> 12-1-17 | F54: =+VLOOKUP($P54,DATA!$B$1:$Q$380,7,FALSE) -> 6-1-18 | G54: =+VLOOKUP($P54,DATA!$B$1:$Q$380,8,FALSE) -> 12-1-20 | H54: IND. RATE = | I54: =+VLOOKUP(P54,DATA!$B$1:$Q$380,9,FALSE) | J54: =+VLOOKUP(P54,DATA!$B$1:$Q$380,10,FALSE) -> 7.381 | K54: =IF(I54=" "," ","(Limited)") | O54: 37 | P54: =+($L$5)&O54 -> 6824F37
B55: IND. RATE | O55: 38 | P55: =+($L$5)&O55 -> 6824F38
B56: MAN. RATE | D56: =+VLOOKUP(P55,DATA!$B$1:$Q$380,5,FALSE) -> 7.16 | E56: =+VLOOKUP($P55,DATA!$B$1:$Q$380,6,FALSE) -> 7.17 | F56: =+VLOOKUP($P55,DATA!$B$1:$Q$380,7,FALSE) -> 6.93 | G56: =+VLOOKUP($P55,DATA!$B$1:$Q$380,8,FALSE) -> 7.38
O57: 39 | P57: =+($L$5)&O57 -> 6824F39

Sheet LAYOUT
A4: Class Description: | C4: =R1 | J4: Class Code | K4: =C1
A6: Manual | B6: =E2 | C6: Total Rept | D6: Pure Prem | F6: =IF(K4=0," ","Tot Payroll") -> Tot Payroll | G6: Number of Cases
A7: Year | B7: =E3 | C7: Losses | D7: Reported | F7: ex S/C A+B | G7: Death | H7: P.T. | I7: Major | J7: Minor | K7: Temp | L7: Total
A8: =+PRINT!A9 -> 2013 | B8: =E4 | C8: =F4 | D8: =G4 | F8: =IF(K9=0," ",K4) | G8: =L4 | H8: =M4 | I8: =N4 | J8: =O4 | K8: =P4 | L8: =Q4
A9: =+PRINT!A10 -> 2014 | B9: =E5 | C9: =F5 | D9: =G5 | F9: =IF(K9=0," ",K5) | G9: =L5 | H9: =M5 | I9: =N5 | J9: =O5 | K9: =P5 | L9: =Q5
A10: =+PRINT!A11 -> 2015 | B10: =E6 | C10: =F6 | D10: =G6 | F10: =IF(K9=0," ",K6) | G10: =L6 | H10: =M6 | I10: =N6 | J10: =O6 | K10: =P6 | L10: =Q6
A11: =+PRINT!A12 -> 2016 | B11: =E7 | C11: =F7 | D11: =G7 | F11: =IF(K9=0," ",K7) | G11: =L7 | H11: =M7 | I11: =N7 | J11: =O7 | K11: =P7 | L11: =Q7
A12: =+PRINT!A13 -> 2017 | B12: =E8 | C12: =F8 | D12: =G8 | F12: =IF(K9=0," ",K8) | G12: =L8 | H12: =M8 | I12: =N8 | J12: =O8 | K12: =P8 | L12: =Q8
A13: Total | B13: =E9 | C13: =F9 | D13: =G9 | F13: =IF(K9=0," ",K9) | G13: =L9 | H13: =M9 | I13: =N9 | J13: =O9 | K13: =P9 | L13: =Q9
A14: O.D. | C14: =F10 | G14: =L10 | H14: =M10 | I14: =N10 | J14: =O10 | K14: =P10 | L14: =Q10
B16: Reported Losses
A17: Manual | B17: Indemnity | G17: Medical
A18: Year | B18: Death | C18: P.T. | D18: Major | E18: Minor | F18: Temp | G18: Death | H18: P.T. | I18: Major | J18: Minor | K18: Temp | L18: Med Only
A19: =+PRINT!A20 -> 2013 | B19: =E11 | C19: =F11 | D19: =G11 | E19: =H11 | F19: =I11 | G19: =J11 | H19: =K11 | I19: =L11 | J19: =M11 | K19: =N11 | L19: =O11
A20: =+PRINT!A21 -> 2014 | B20: =E12 | C20: =F12 | D20: =G12 | E20: =H12 | F20: =I12 | G20: =J12 | H20: =K12 | I20: =L12 | J20: =M12 | K20: =N12 | L20: =O12
A21: =+PRINT!A22 -> 2015 | B21: =E13 | C21: =F13 | D21: =G13 | E21: =H13 | F21: =I13 | G21: =J13 | H21: =K13 | I21: =L13 | J21: =M13 | K21: =N13 | L21: =O13
A22: =+PRINT!A23 -> 2016 | B22: =E14 | C22: =F14 | D22: =G14 | E22: =H14 | F22: =I14 | G22: =J14 | H22: =K14 | I22: =L14 | J22: =M14 | K22: =N14 | L22: =O14
A23: =+PRINT!A24 -> 2017 | B23: =E15 | C23: =F15 | D23: =G15 | E23: =H15 | F23: =I15 | G23: =J15 | H23: =K15 | I23: =L15 | J23: =M15 | K23: =N15 | L23: =O15
A24: Total | B24: =E16 | C24: =F16 | D24: =G16 | E24: =H16 | F24: =I16 | G24: =J16 | H24: =K16 | I24: =L16 | J24: =M16 | K24: =N16 | L24: =O16
A25: O.D. | B25: =E17 | C25: =F17 | D25: =G17 | E25: =H17 | F25: =I17 | G25: =J17 | H25: =K17 | I25: =L17 | J25: =M17 | K25: =N17 | L25: =O17
B27: Translated Losses
A28: Manual | B28: Indemnity | G28: Medical
A29: Year | B29: Death | C29: P.T. | D29: Major | E29: Minor | F29: Temp | G29: Death | H29: P.T. | I29: Major | J29: Minor | K29: Temp | L29: Med Only
A30: =+PRINT!A31 -> 2013 | B30: =E18 | C30: =F18 | D30: =G18 | E30: =H18 | F30: =I18 | G30: =J18 | H30: =K18 | I30: =L18 | J30: =M18 | K30: =N18 | L30: =O18
A31: =+PRINT!A32 -> 2014 | B31: =E19 | C31: =F19 | D31: =G19 | E31: =H19 | F31: =I19 | G31: =J19 | H31: =K19 | I31: =L19 | J31: =M19 | K31: =N19 | L31: =O19
A32: =+PRINT!A33 -> 2015 | B32: =E20 | C32: =F20 | D32: =G20 | E32: =H20 | F32: =I20 | G32: =J20 | H32: =K20 | I32: =L20 | J32: =M20 | K32: =N20 | L32: =O20
A33: =+PRINT!A34 -> 2016 | B33: =E21 | C33: =F21 | D33: =G21 | E33: =H21 | F33: =I21 | G33: =J21 | H33: =K21 | I33: =L21 | J33: =M21 | K33: =N21 | L33: =O21
A34: =+PRINT!A35 -> 2017 | B34: =E22 | C34: =F22 | D34: =G22 | E34: =H22 | F34: =I22 | G34: =J22 | H34: =K22 | I34: =L22 | J34: =M22 | K34: =N22 | L34: =O22
A35: Total | B35: =E23 | C35: =F23 | D35: =G23 | E35: =H23 | F35: =I23 | G35: =J23 | H35: =K23 | I35: =L23 | J35: =M23 | K35: =N23 | L35: =O23
A36: O.D. | B36: =E24 | C36: =F24 | D36: =G24 | E36: =H24 | F36: =I24 | G36: =J24 | H36: =K24 | I36: =L24 | J36: =M24 | K36: =N24 | L36: =O24
F38: Serious | G38: Non Ser | H38: Med Only | I38: Total
B39: Total Translated Losses Pg B | F39: =H25 | G39: =I25 | H39: =J25
B40: Total Translated Losses Pg A | F40: =H26 | G40: =I26 | H40: =J26
B41: IBNR + Frequency Adjustment | F41: =H27 | G41: =I27 | H41: =J27
B42: Total Losses | F42: =H28 | G42: =I28 | H42: =J28
B43: Expected Losses | F43: =H29 | G43: =I29 | H43: =J29
B44: Credibility | F44: =H30 | G44: =I30 | H44: =J30
B45: Pure Premiums
C46: Indicated (Pre-Test) | F46: =H31 | G46: =I31 | H46: =J31 | I46: =K31
C47: Indicated (Post-Test) | F47: =H32 | G47: =I32 | H47: =J32 | I47: =K32
C48: Present On-Level | F48: =H33 | G48: =I33 | H48: =J33 | I48: =K33
C49: Derived by Formula | F49: =H34 | G49: =I34 | H49: =J34 | I49: =K34
C50: Underlying Present Loss Cost | F50: =H35 | G50: =I35 | H50: =J35 | I50: =K35
C51: Proposed | F51: =H36 | G51: =I36 | H51: =J36 | I51: =K36
B53: =F37 | C53: =G37 | D53: =H37 | E53: =I37 | H53: Indicated Loss Cost | I53: =J37 | J53: =K37 | K53: =IF(J37=" "," ","(limited)")
B54: =F38 | C54: =G38 | D54: =H38 | E54: =I38
